BEGIN:VCALENDAR
VERSION:2.0
PRODID:-//Sophicity/Tribune/City Of Oxford
BEGIN:VEVENT
DTSTAMP:20260423T114312Z
UID:8448d9c1-dbf7-46d3-ad16-95df5c9a5f3c-9042
DTSTART:20260519T213000Z
DTEND:20260519T233000Z
LOCATION:OXFORD CITY HALL
CLASS:PUBLIC
SUMMARY:Trees, Parks and Recreation Board Meeting
END:VEVENT
END:VCALENDAR
