BEGIN:VCALENDAR
VERSION:2.0
PRODID:-//Sophicity/Tribune/City Of Oxford
BEGIN:VEVENT
DTSTAMP:20260421T133620Z
UID:8448d9c1-dbf7-46d3-ad16-95df5c9a5f3c-9139
DTSTART:20260518T223000Z
DTEND:20260519T013000Z
LOCATION:OXFORD CITY HALL
CLASS:PUBLIC
SUMMARY:City Council Work Session 5/18/2026
END:VEVENT
END:VCALENDAR
